{
 "currentVersion": 10.81,
 "serviceDescription": "Bezešvá mapa Hlavních výkresů územních plánů (ÚP) resp. platné územně plánovací dokumentace (ÚPD) obcí Kraje Vysočina. Jedná se o tile mapu pro rychlejší načítání.",
 "name": "UPD_HLV_tiles_img",
 "description": "Bezešvá mapa Hlavních výkresů územních plánů (ÚP) resp. platné územně plánovací dokumentace (ÚPD) obcí Kraje Vysočina. Jedná se o tile mapu pro rychlejší načítání.",
 "extent": {
  "xmin": -3511414.6852800287,
  "ymin": -6691371.6014190335,
  "xmax": 40147.508143831044,
  "ymax": 46.8863549658563,
  "spatialReference": {
   "wkid": 102067,
   "latestWkid": 5514
  }
 },
 "initialExtent": {
  "xmin": -3511414.6852800287,
  "ymin": -6691371.6014190335,
  "xmax": 40147.508143831044,
  "ymax": 46.8863549658563,
  "spatialReference": {
   "wkid": 102067,
   "latestWkid": 5514
  }
 },
 "fullExtent": {
  "xmin": -3511414.6852800287,
  "ymin": -6691371.6014190335,
  "xmax": 40147.508143831044,
  "ymax": 46.8863549658563,
  "spatialReference": {
   "wkid": 102067,
   "latestWkid": 5514
  }
 },
 "pixelSizeX": 0.11060982,
 "pixelSizeY": 0.11060982,
 "bandCount": 3,
 "pixelType": "U8",
 "minPixelSize": 0.25003175006350015,
 "maxPixelSize": 1024.1300482600966,
 "copyrightText": "",
 "serviceDataType": "esriImageServiceDataTypeRGB",
 "minValues": [
  0,
  0,
  0
 ],
 "maxValues": [
  255,
  255,
  255
 ],
 "meanValues": [
  198.35419010078508,
  213.4497540661143,
  176.0536547419539
 ],
 "stdvValues": [
  70.31892220932943,
  56.30652599881634,
  62.47772427303422
 ],
 "objectIdField": "OBJECTID",
 "fields": [
  {
   "name": "OBJECTID",
   "type": "esriFieldTypeOID",
   "alias": "OBJECTID",
   "domain": null
  },
  {
   "name": "Name",
   "type": "esriFieldTypeString",
   "alias": "Name",
   "domain": null,
   "length": 200
  },
  {
   "name": "MinPS",
   "type": "esriFieldTypeDouble",
   "alias": "MinPS",
   "domain": null
  },
  {
   "name": "MaxPS",
   "type": "esriFieldTypeDouble",
   "alias": "MaxPS",
   "domain": null
  },
  {
   "name": "LowPS",
   "type": "esriFieldTypeDouble",
   "alias": "LowPS",
   "domain": null
  },
  {
   "name": "HighPS",
   "type": "esriFieldTypeDouble",
   "alias": "HighPS",
   "domain": null
  },
  {
   "name": "Category",
   "type": "esriFieldTypeInteger",
   "alias": "Category",
   "domain": {
    "type": "codedValue",
    "name": "MosaicCatalogItemCategoryDomain",
    "description": "Catalog item categories.",
    "codedValues": [
     {
      "name": "Unknown",
      "code": 0
     },
     {
      "name": "Primary",
      "code": 1
     },
     {
      "name": "Overview",
      "code": 2
     },
     {
      "name": "Unprocessed Overview",
      "code": 3
     },
     {
      "name": "Partial Overview",
      "code": 4
     },
     {
      "name": "Inactive",
      "code": 5
     },
     {
      "name": "Uploaded",
      "code": 253
     },
     {
      "name": "Incomplete",
      "code": 254
     },
     {
      "name": "Custom",
      "code": 255
     }
    ],
    "mergePolicy": "esriMPTDefaultValue",
    "splitPolicy": "esriSPTDefaultValue"
   }
  },
  {
   "name": "Tag",
   "type": "esriFieldTypeString",
   "alias": "Tag",
   "domain": null,
   "length": 100
  },
  {
   "name": "GroupName",
   "type": "esriFieldTypeString",
   "alias": "GroupName",
   "domain": null,
   "length": 100
  },
  {
   "name": "ProductName",
   "type": "esriFieldTypeString",
   "alias": "ProductName",
   "domain": null,
   "length": 100
  },
  {
   "name": "CenterX",
   "type": "esriFieldTypeDouble",
   "alias": "CenterX",
   "domain": null
  },
  {
   "name": "CenterY",
   "type": "esriFieldTypeDouble",
   "alias": "CenterY",
   "domain": null
  },
  {
   "name": "ZOrder",
   "type": "esriFieldTypeInteger",
   "alias": "ZOrder",
   "domain": null
  },
  {
   "name": "PUBLIKOVAT",
   "type": "esriFieldTypeSmallInteger",
   "alias": "PUBLIKOVAT",
   "domain": null
  },
  {
   "name": "last_TIF_change_date",
   "type": "esriFieldTypeDate",
   "alias": "last_TIF_change_date",
   "domain": null,
   "length": 8
  },
  {
   "name": "upd_code",
   "type": "esriFieldTypeString",
   "alias": "upd_code",
   "domain": null,
   "length": 50
  },
  {
   "name": "AKTUALNI",
   "type": "esriFieldTypeSmallInteger",
   "alias": "AKTUALNI",
   "domain": null
  },
  {
   "name": "Shape",
   "type": "esriFieldTypeGeometry",
   "alias": "Shape",
   "domain": null
  },
  {
   "name": "rc_zmeny",
   "type": "esriFieldTypeDouble",
   "alias": "rc_zmeny",
   "domain": null
  },
  {
   "name": "rc_upd",
   "type": "esriFieldTypeDouble",
   "alias": "rc_upd2",
   "domain": null
  },
  {
   "name": "Shape.STArea()",
   "type": "esriFieldTypeDouble",
   "alias": "Shape.STArea()",
   "domain": null
  },
  {
   "name": "Shape.STLength()",
   "type": "esriFieldTypeDouble",
   "alias": "Shape.STLength()",
   "domain": null
  }
 ],
 "capabilities": "Catalog,Image,Metadata",
 "defaultMosaicMethod": "ByAttribute",
 "allowedMosaicMethods": "ByAttribute,NorthWest,Center,LockRaster,Nadir,Viewpoint,Seamline,None",
 "sortField": "AKTUALNI",
 "sortValue": "0",
 "sortAscending": false,
 "mosaicOperator": "First",
 "maxDownloadSizeLimit": 2048,
 "defaultCompressionQuality": 75,
 "defaultResamplingMethod": "Bilinear",
 "maxImageHeight": 4100,
 "maxImageWidth": 15000,
 "maxRecordCount": 1000,
 "maxDownloadImageCount": 20,
 "maxMosaicImageCount": 1000,
 "singleFusedMapCache": true,
 "tileInfo": {
  "rows": 256,
  "cols": 256,
  "dpi": 96,
  "format": "MIXED",
  "compressionQuality": 85,
  "origin": {
   "x": -33699800,
   "y": 33699800
  },
  "spatialReference": {
   "wkid": 102067,
   "latestWkid": 5514
  },
  "lods": [
   {
    "level": 0,
    "resolution": 1024.1300482600966,
    "scale": 3870720
   },
   {
    "level": 1,
    "resolution": 512.0650241300483,
    "scale": 1935360
   },
   {
    "level": 2,
    "resolution": 256.03251206502415,
    "scale": 967680
   },
   {
    "level": 3,
    "resolution": 128.01625603251208,
    "scale": 483840
   },
   {
    "level": 4,
    "resolution": 64.00812801625604,
    "scale": 241920
   },
   {
    "level": 5,
    "resolution": 32.00406400812802,
    "scale": 120960
   },
   {
    "level": 6,
    "resolution": 16.00203200406401,
    "scale": 60480
   },
   {
    "level": 7,
    "resolution": 8.001016002032005,
    "scale": 30240
   },
   {
    "level": 8,
    "resolution": 4.000508001016002,
    "scale": 15120
   },
   {
    "level": 9,
    "resolution": 2.000254000508001,
    "scale": 7560
   },
   {
    "level": 10,
    "resolution": 1.0001270002540006,
    "scale": 3780
   },
   {
    "level": 11,
    "resolution": 0.5000635001270003,
    "scale": 1890
   },
   {
    "level": 12,
    "resolution": 0.25003175006350015,
    "scale": 945
   }
  ]
 },
 "cacheType": "Map",
 "allowRasterFunction": true,
 "rasterFunctionInfos": [
  {
   "name": "None",
   "description": "A No-Op Function.",
   "help": ""
  }
 ],
 "rasterTypeInfos": [
  {
   "name": "Raster Dataset",
   "description": "Supports all ArcGIS Raster Datasets",
   "help": ""
  }
 ],
 "mensurationCapabilities": "Basic",
 "hasHistograms": true,
 "hasColormap": false,
 "hasRasterAttributeTable": false,
 "minScale": 3870720,
 "maxScale": 945,
 "minLOD": 0,
 "maxLOD": 12,
 "exportTilesAllowed": false,
 "hasMultidimensions": false,
 "supportsStatistics": true,
 "supportsAdvancedQueries": true,
 "editFieldsInfo": null,
 "ownershipBasedAccessControlForRasters": null,
 "allowComputeTiePoints": false,
 "useStandardizedQueries": true,
 "advancedQueryCapabilities": {
  "useStandardizedQueries": true,
  "supportsStatistics": true,
  "supportsOrderBy": true,
  "supportsDistinct": true,
  "supportsPagination": true
 },
 "spatialReference": {
  "wkid": 102067,
  "latestWkid": 5514
 }
}
