View In:
ArcGIS JavaScript
ArcGIS Online Map Viewer
ArcGIS Earth
ArcMap
View Footprint In:
ArcGIS Online Map Viewer
Service Description: Bezešvá mapa Výkresů veřejně prospěšných staveb, opatření a asanací územních plánů (ÚP) resp. platné územně plánovací dokumentace (ÚPD) obcí Kraje Vysočina.
Name: UPD_VPS_img
Description: Bezešvá mapa Výkresů veřejně prospěšných staveb, opatření a asanací územních plánů (ÚP) resp. platné územně plánovací dokumentace (ÚPD) obcí Kraje Vysočina.
Single Fused Map Cache: false
Extent:
XMin: -720673.0168581451
YMin: -1181251.867542881
XMax: 12399.49983459583
YMax: 46.80766057292931
Spatial Reference: 102067
(5514)
Initial Extent:
XMin: -720673.0168581451
YMin: -1181251.867542881
XMax: 12399.49983459583
YMax: 46.80766057292931
Spatial Reference: 102067
(5514)
Full Extent:
XMin: -720673.0168581451
YMin: -1181251.867542881
XMax: 12399.49983459583
YMax: 46.80766057292931
Spatial Reference: 102067
(5514)
Pixel Size X: 0.003333333
Pixel Size Y: 0.003333333
Band Count: 3
Pixel Type: U8
RasterFunction Infos: {"rasterFunctionInfos": [{
"name": "None",
"description": "A No-Op Function.",
"help": ""
}]}
Mensuration Capabilities: Basic
Has Histograms: true
Has Colormap: false
Has Multi Dimensions : false
Rendering Rule:
Min Scale: 0
Max Scale: 0
Copyright Text:
Service Data Type: esriImageServiceDataTypeRGB
Min Values: 0, 0, 0
Max Values: 255, 255, 255
Mean Values: 246.7088120908137, 245.93619882088618, 244.08734959773355
Standard Deviation Values: 25.62753020827501, 26.504425519234946, 32.18132793668105
Object ID Field: OBJECTID
Fields:
-
OBJECTID
(
type: esriFieldTypeOID, alias: OBJECTID
)
-
Name
(
type: esriFieldTypeString, alias: Name, length: 200
)
-
MinPS
(
type: esriFieldTypeDouble, alias: MinPS
)
-
MaxPS
(
type: esriFieldTypeDouble, alias: MaxPS
)
-
LowPS
(
type: esriFieldTypeDouble, alias: LowPS
)
-
HighPS
(
type: esriFieldTypeDouble, alias: HighPS
)
-
Category
(
type: esriFieldTypeInteger, alias: Category
, Coded Values:
[0: Unknown]
, [1: Primary]
, [2: Overview]
, ...6 more...
)
-
Tag
(
type: esriFieldTypeString, alias: Tag, length: 100
)
-
GroupName
(
type: esriFieldTypeString, alias: GroupName, length: 100
)
-
ProductName
(
type: esriFieldTypeString, alias: ProductName, length: 100
)
-
CenterX
(
type: esriFieldTypeDouble, alias: CenterX
)
-
CenterY
(
type: esriFieldTypeDouble, alias: CenterY
)
-
ZOrder
(
type: esriFieldTypeInteger, alias: ZOrder
)
-
PUBLIKOVAT
(
type: esriFieldTypeSmallInteger, alias: PUBLIKOVAT
)
-
last_TIF_change_date
(
type: esriFieldTypeDate, alias: last_TIF_change_date, length: 8
)
-
upd_code
(
type: esriFieldTypeString, alias: upd_code, length: 50
)
-
AKTUALNI
(
type: esriFieldTypeSmallInteger, alias: AKTUALNI
)
-
Shape
(
type: esriFieldTypeGeometry, alias: Shape
)
-
rc_zmeny
(
type: esriFieldTypeDouble, alias: rc_zmeny
)
-
rc_upd
(
type: esriFieldTypeDouble, alias: rc_upd2
)
-
Shape.STArea()
(
type: esriFieldTypeDouble, alias: Shape.STArea()
)
-
Shape.STLength()
(
type: esriFieldTypeDouble, alias: Shape.STLength()
)
Default Mosaic Method: Northwest
Allowed Mosaic Methods: NorthWest,Center,LockRaster,ByAttribute,Nadir,Viewpoint,Seamline,None
SortField:
SortValue: null
Mosaic Operator: First
Default Compression Quality: 75
Default Resampling Method: Bilinear
Max Record Count: 1000
Max Image Height: 4100
Max Image Width: 15000
Max Download Image Count: 20
Max Mosaic Image Count: 1000
Allow Raster Function: true
Allow Copy: true
Allow Analysis: true
Allow Compute TiePoints: false
Supports Statistics: true
Supports Advanced Queries: true
Use StandardizedQueries: true
Raster Type Infos:
Name: Raster Dataset
Description: Supports all ArcGIS Raster Datasets
Help:
Has Raster Attribute Table: false
Edit Fields Info: null
Ownership Based AccessControl For Rasters: null
Child Resources:
Info
Histograms
Statistics
Key Properties
Legend
Raster Function Infos
Supported Operations:
Export Image
Query
Identify
Measure
Compute Histograms
Compute Statistics Histograms
Get Samples
Compute Class Statistics
Query Boundary
Compute Pixel Location
Validate
Project