View In:
ArcGIS JavaScript
ArcGIS Online Map Viewer
ArcGIS Earth
ArcMap
View Footprint In:
ArcGIS Online Map Viewer
Service Description: Image služba, která obsahuje všechny ostatní výkresy územních plánů (ÚP) resp. platných územně plánovacích dokumentací (ÚPD) obcí Kraje Vysočina, které byly rasterizovány a vystaveny v prostředí tohoto portálu PÚPO. Tyto výkresy obsahují oproti bezešvým mapám mimorámové údaje (legendy, tiráže atd.). Jedná se například o koordinační výkresy, výkresy záborů PF, výkresy etapizace, ale také o koncepční výkresy, které byly vyhotoveny jako součásti Hlavních výkresů (koncepce dopravní infrastruktury, koncepce technické infrastruktury apod.).
Name: UPD_Vykresy_Ostatni_img
Description: Image služba, která obsahuje všechny ostatní výkresy územních plánů (ÚP) resp. platných územně plánovacích dokumentací (ÚPD) obcí Kraje Vysočina, které byly rasterizovány a vystaveny v prostředí tohoto portálu PÚPO. Tyto výkresy obsahují oproti bezešvým mapám mimorámové údaje (legendy, tiráže atd.). Jedná se například o koordinační výkresy, výkresy záborů PF, výkresy etapizace, ale také o koncepční výkresy, které byly vyhotoveny jako součásti Hlavních výkresů (koncepce dopravní infrastruktury, koncepce technické infrastruktury apod.).
Single Fused Map Cache: false
Extent:
XMin: -719677.239896551
YMin: -1181250.4149070214
XMax: 26522.500103448983
YMax: 89.81509297853336
Spatial Reference: 102067
(5514)
Initial Extent:
XMin: -719677.239896551
YMin: -1181250.4149070214
XMax: 26522.500103448983
YMax: 89.81509297853336
Spatial Reference: 102067
(5514)
Full Extent:
XMin: -719677.239896551
YMin: -1181250.4149070214
XMax: 26522.500103448983
YMax: 89.81509297853336
Spatial Reference: 102067
(5514)
Pixel Size X: 0.0025
Pixel Size Y: 0.0025
Band Count: 3
Pixel Type: U8
RasterFunction Infos: {"rasterFunctionInfos": [{
"name": "None",
"description": "A No-Op Function.",
"help": ""
}]}
Mensuration Capabilities: Basic
Has Histograms: true
Has Colormap: false
Has Multi Dimensions : false
Rendering Rule:
Min Scale: 0
Max Scale: 0
Copyright Text:
Service Data Type: esriImageServiceDataTypeRGB
Min Values: 0, 0, 0
Max Values: 255, 255, 255
Mean Values: 236.07937219730687, 236.5000427076672, 236.5676489429873
Standard Deviation Values: 33.43698086251075, 32.5560753768832, 32.17351868840184
Object ID Field: OBJECTID
Fields:
-
OBJECTID
(
type: esriFieldTypeOID, alias: OBJECTID
)
-
Name
(
type: esriFieldTypeString, alias: Name, length: 200
)
-
MinPS
(
type: esriFieldTypeDouble, alias: MinPS
)
-
MaxPS
(
type: esriFieldTypeDouble, alias: MaxPS
)
-
LowPS
(
type: esriFieldTypeDouble, alias: LowPS
)
-
HighPS
(
type: esriFieldTypeDouble, alias: HighPS
)
-
Category
(
type: esriFieldTypeInteger, alias: Category
, Coded Values:
[0: Unknown]
, [1: Primary]
, [2: Overview]
, ...6 more...
)
-
Tag
(
type: esriFieldTypeString, alias: Tag, length: 100
)
-
GroupName
(
type: esriFieldTypeString, alias: GroupName, length: 100
)
-
ProductName
(
type: esriFieldTypeString, alias: ProductName, length: 100
)
-
CenterX
(
type: esriFieldTypeDouble, alias: CenterX
)
-
CenterY
(
type: esriFieldTypeDouble, alias: CenterY
)
-
ZOrder
(
type: esriFieldTypeInteger, alias: ZOrder
)
-
PUBLIKOVAT
(
type: esriFieldTypeSmallInteger, alias: PUBLIKOVAT
)
-
last_TIF_change_date
(
type: esriFieldTypeDate, alias: last_TIF_change_date, length: 8
)
-
AKTUALNI
(
type: esriFieldTypeSmallInteger, alias: AKTUALNI
)
-
Shape
(
type: esriFieldTypeGeometry, alias: Shape
)
-
rc_zmeny
(
type: esriFieldTypeDouble, alias: rc_zmeny
)
-
rc_upd
(
type: esriFieldTypeDouble, alias: rc_upd2
)
-
Shape.STArea()
(
type: esriFieldTypeDouble, alias: Shape.STArea()
)
-
Shape.STLength()
(
type: esriFieldTypeDouble, alias: Shape.STLength()
)
Default Mosaic Method: Northwest
Allowed Mosaic Methods: NorthWest,Center,LockRaster,ByAttribute,Nadir,Viewpoint,Seamline,None
SortField:
SortValue: null
Mosaic Operator: First
Default Compression Quality: 75
Default Resampling Method: Bilinear
Max Record Count: 1000
Max Image Height: 4100
Max Image Width: 15000
Max Download Image Count: 20
Max Mosaic Image Count: 1000
Allow Raster Function: true
Allow Copy: true
Allow Analysis: true
Allow Compute TiePoints: false
Supports Statistics: true
Supports Advanced Queries: true
Use StandardizedQueries: true
Raster Type Infos:
Name: Raster Dataset
Description: Supports all ArcGIS Raster Datasets
Help:
Has Raster Attribute Table: false
Edit Fields Info: null
Ownership Based AccessControl For Rasters: null
Child Resources:
Info
Histograms
Statistics
Key Properties
Legend
Raster Function Infos
Supported Operations:
Export Image
Query
Identify
Measure
Compute Histograms
Compute Statistics Histograms
Get Samples
Compute Class Statistics
Query Boundary
Compute Pixel Location
Validate
Project