View In:
ArcGIS JavaScript
ArcGIS Online Map Viewer
ArcGIS Earth
ArcMap
View Footprint In:
ArcGIS Online Map Viewer
Service Description: Bezešvá mapa Výkresů základního členění území územních plánů (ÚP) resp. platné územně plánovací dokumentace (ÚPD) obcí Kraje Vysočina.
Name: UPD_ZCU_img
Description: Bezešvá mapa Výkresů základního členění území územních plánů (ÚP) resp. platné územně plánovací dokumentace (ÚPD) obcí Kraje Vysočina.
Single Fused Map Cache: false
Extent:
XMin: -720722.7968105315
YMin: -1181251.8855059955
XMax: 12399.499813898467
YMax: 46.80742036248557
Spatial Reference: 102067
(5514)
Initial Extent:
XMin: -720722.7968105315
YMin: -1181251.8855059955
XMax: 12399.499813898467
YMax: 46.80742036248557
Spatial Reference: 102067
(5514)
Full Extent:
XMin: -720722.7968105315
YMin: -1181251.8855059955
XMax: 12399.499813898467
YMax: 46.80742036248557
Spatial Reference: 102067
(5514)
Pixel Size X: 0.001666667
Pixel Size Y: 0.001666667
Band Count: 3
Pixel Type: U8
RasterFunction Infos: {"rasterFunctionInfos": [{
"name": "None",
"description": "A No-Op Function.",
"help": ""
}]}
Mensuration Capabilities: Basic
Has Histograms: true
Has Colormap: false
Has Multi Dimensions : false
Rendering Rule:
Min Scale: 0
Max Scale: 0
Copyright Text:
Service Data Type: esriImageServiceDataTypeRGB
Min Values: 55, 59, 55
Max Values: 255, 255, 255
Mean Values: 243.27897027311286, 243.62994926474286, 244.11008593330254
Standard Deviation Values: 19.996401830053625, 18.81182643184696, 18.158721484648567
Object ID Field: OBJECTID
Fields:
-
OBJECTID
(
type: esriFieldTypeOID, alias: OBJECTID
)
-
Name
(
type: esriFieldTypeString, alias: Name, length: 200
)
-
MinPS
(
type: esriFieldTypeDouble, alias: MinPS
)
-
MaxPS
(
type: esriFieldTypeDouble, alias: MaxPS
)
-
LowPS
(
type: esriFieldTypeDouble, alias: LowPS
)
-
HighPS
(
type: esriFieldTypeDouble, alias: HighPS
)
-
Category
(
type: esriFieldTypeInteger, alias: Category
, Coded Values:
[0: Unknown]
, [1: Primary]
, [2: Overview]
, ...6 more...
)
-
Tag
(
type: esriFieldTypeString, alias: Tag, length: 100
)
-
GroupName
(
type: esriFieldTypeString, alias: GroupName, length: 100
)
-
ProductName
(
type: esriFieldTypeString, alias: ProductName, length: 100
)
-
CenterX
(
type: esriFieldTypeDouble, alias: CenterX
)
-
CenterY
(
type: esriFieldTypeDouble, alias: CenterY
)
-
ZOrder
(
type: esriFieldTypeInteger, alias: ZOrder
)
-
PUBLIKOVAT
(
type: esriFieldTypeSmallInteger, alias: PUBLIKOVAT
)
-
last_TIF_change_date
(
type: esriFieldTypeDate, alias: last_TIF_change_date, length: 8
)
-
AKTUALNI
(
type: esriFieldTypeSmallInteger, alias: AKTUALNI
)
-
Shape
(
type: esriFieldTypeGeometry, alias: Shape
)
-
rc_zmeny
(
type: esriFieldTypeDouble, alias: rc_zmeny2
)
-
rc_upd
(
type: esriFieldTypeDouble, alias: rc_upd2
)
-
Shape.STArea()
(
type: esriFieldTypeDouble, alias: Shape.STArea()
)
-
Shape.STLength()
(
type: esriFieldTypeDouble, alias: Shape.STLength()
)
Default Mosaic Method: ByAttribute
Allowed Mosaic Methods: ByAttribute,NorthWest,Center,LockRaster,Nadir,Viewpoint,Seamline,None
SortField: AKTUALNI
SortValue: 0
Mosaic Operator: First
Default Compression Quality: 75
Default Resampling Method: Bilinear
Max Record Count: 1000
Max Image Height: 4100
Max Image Width: 15000
Max Download Image Count: 20
Max Mosaic Image Count: 1000
Allow Raster Function: true
Allow Copy: true
Allow Analysis: true
Allow Compute TiePoints: false
Supports Statistics: true
Supports Advanced Queries: true
Use StandardizedQueries: true
Raster Type Infos:
Name: Raster Dataset
Description: Supports all ArcGIS Raster Datasets
Help:
Has Raster Attribute Table: false
Edit Fields Info: null
Ownership Based AccessControl For Rasters: null
Child Resources:
Info
Histograms
Statistics
Key Properties
Legend
Raster Function Infos
Supported Operations:
Export Image
Query
Identify
Measure
Compute Histograms
Compute Statistics Histograms
Get Samples
Compute Class Statistics
Query Boundary
Compute Pixel Location
Validate
Project