View In:
ArcGIS JavaScript
ArcGIS Online Map Viewer
ArcGIS Earth
ArcMap
View Footprint In:
ArcGIS Online Map Viewer
Service Description: Bezešvá mapa Hlavních výkresů územních plánů (ÚP) resp. platné územně plánovací dokumentace (ÚPD) obcí Kraje Vysočina. Jedná se o tile mapu pro rychlejší načítání.
Name: UPD_HLV_tiles_img
Description: Bezešvá mapa Hlavních výkresů územních plánů (ÚP) resp. platné územně plánovací dokumentace (ÚPD) obcí Kraje Vysočina. Jedná se o tile mapu pro rychlejší načítání.
Single Fused Map Cache: true
Tile Info:
- Height: 256
- Width: 256
- DPI: 96
-
Levels of Detail: 13
- Format: MIXED
- Compression Quality: 85.0
- LERC Error: NaN
- Origin: X: -3.36998E7
Y: 3.36998E7
- Spatial Reference: 102067
(5514)
Extent:
XMin: -3511414.6852800287
YMin: -6691371.6014190335
XMax: 40147.508143831044
YMax: 46.8863549658563
Spatial Reference: 102067
(5514)
Initial Extent:
XMin: -3511414.6852800287
YMin: -6691371.6014190335
XMax: 40147.508143831044
YMax: 46.8863549658563
Spatial Reference: 102067
(5514)
Full Extent:
XMin: -3511414.6852800287
YMin: -6691371.6014190335
XMax: 40147.508143831044
YMax: 46.8863549658563
Spatial Reference: 102067
(5514)
Pixel Size X: 0.11060982
Pixel Size Y: 0.11060982
Band Count: 3
Pixel Type: U8
RasterFunction Infos: {"rasterFunctionInfos": [{
"name": "None",
"description": "A No-Op Function.",
"help": ""
}]}
Mensuration Capabilities: Basic
Has Histograms: true
Has Colormap: false
Has Multi Dimensions : false
Rendering Rule:
Min Scale: 3870720
Max Scale: 945
Min LOD: 0
Max LOD: 12
Copyright Text:
Service Data Type: esriImageServiceDataTypeRGB
Min Values: 0, 0, 0
Max Values: 255, 255, 255
Mean Values: 198.35419010078508, 213.4497540661143, 176.0536547419539
Standard Deviation Values: 70.31892220932943, 56.30652599881634, 62.47772427303422
Object ID Field: OBJECTID
Fields:
-
OBJECTID
(
type: esriFieldTypeOID, alias: OBJECTID
)
-
Name
(
type: esriFieldTypeString, alias: Name, length: 200
)
-
MinPS
(
type: esriFieldTypeDouble, alias: MinPS
)
-
MaxPS
(
type: esriFieldTypeDouble, alias: MaxPS
)
-
LowPS
(
type: esriFieldTypeDouble, alias: LowPS
)
-
HighPS
(
type: esriFieldTypeDouble, alias: HighPS
)
-
Category
(
type: esriFieldTypeInteger, alias: Category
, Coded Values:
[0: Unknown]
, [1: Primary]
, [2: Overview]
, ...6 more...
)
-
Tag
(
type: esriFieldTypeString, alias: Tag, length: 100
)
-
GroupName
(
type: esriFieldTypeString, alias: GroupName, length: 100
)
-
ProductName
(
type: esriFieldTypeString, alias: ProductName, length: 100
)
-
CenterX
(
type: esriFieldTypeDouble, alias: CenterX
)
-
CenterY
(
type: esriFieldTypeDouble, alias: CenterY
)
-
ZOrder
(
type: esriFieldTypeInteger, alias: ZOrder
)
-
PUBLIKOVAT
(
type: esriFieldTypeSmallInteger, alias: PUBLIKOVAT
)
-
last_TIF_change_date
(
type: esriFieldTypeDate, alias: last_TIF_change_date, length: 8
)
-
upd_code
(
type: esriFieldTypeString, alias: upd_code, length: 50
)
-
AKTUALNI
(
type: esriFieldTypeSmallInteger, alias: AKTUALNI
)
-
Shape
(
type: esriFieldTypeGeometry, alias: Shape
)
-
rc_zmeny
(
type: esriFieldTypeDouble, alias: rc_zmeny
)
-
rc_upd
(
type: esriFieldTypeDouble, alias: rc_upd2
)
-
Shape.STArea()
(
type: esriFieldTypeDouble, alias: Shape.STArea()
)
-
Shape.STLength()
(
type: esriFieldTypeDouble, alias: Shape.STLength()
)
Default Mosaic Method: ByAttribute
Allowed Mosaic Methods: ByAttribute,NorthWest,Center,LockRaster,Nadir,Viewpoint,Seamline,None
SortField: AKTUALNI
SortValue: 0
Mosaic Operator: First
Default Compression Quality: 75
Default Resampling Method: Bilinear
Max Record Count: 1000
Max Image Height: 4100
Max Image Width: 15000
Max Download Image Count: 20
Max Mosaic Image Count: 1000
Allow Raster Function: true
Allow Copy: null
Allow Analysis: null
Allow Compute TiePoints: false
Supports Statistics: true
Supports Advanced Queries: true
Use StandardizedQueries: true
Raster Type Infos:
Name: Raster Dataset
Description: Supports all ArcGIS Raster Datasets
Help:
Has Raster Attribute Table: false
Edit Fields Info: null
Ownership Based AccessControl For Rasters: null
Child Resources:
Info
Histograms
Key Properties
Legend
Raster Function Infos
Supported Operations:
Export Image
Query
Identify
Compute Histograms
Compute Statistics Histograms
Get Samples
Compute Class Statistics
Query Boundary
Compute Pixel Location
Validate
Project